BEGIN:VCALENDAR
VERSION:2.0
METHOD:PUBLISH
BEGIN:VEVENT
UID:WILD_APRICOT_EVENT_2407081_SESSION_1
DTSTART:20170405T060000Z
DTEND:20170405T073000Z
SUMMARY:Toby Hilless\, FCB
LOCATION:Five Knots\, Tamaki Yacht Club\, Tamaki Drive\, Auckland
DESCRIPTION:https://www.researchassociation.org.nz/event-2407081\n\nThis session is designed as a practical applied guide on CRM\, taking away the “scariness” of Big Data and getting a research and insights audience to see how it could help them\, including:\n      * Focus on the R in relationship\, so what would/wouldn’t you ask a person?\n\n        * Who are the people on client-side that have this information (client insight team vs. data/direct/CR type teams)\n\n        * How to use CRM to form your research strategy and sample lists\n\n        * How to use the information that’s already available to you\n\n\nThis event is valuable for all client-side and agency researchers\, who want to learn how to effectively use CRM for insights generation. The session will be run by CRM & Marketing specialist Toby Hilless\, who is currently CRM strategist at FCB\, and held senior roles at Vodafone\, Farmers\, BNZ\, Fonterra\, ASB\, and Aim Proximity.\n \n  Please note that the timing for this event is arrival at 6pm for a 6:15pm start.\n\n
DTSTAMP:20260424T120305Z
END:VEVENT
END:VCALENDAR
